BEGIN:VCALENDAR
VERSION:2.0
PRODID:-// - ECPv6.15.20//NONSGML v1.0//EN
CALSCALE:GREGORIAN
METHOD:PUBLISH
X-ORIGINAL-URL:https://ampara-mediterranee.corsica
X-WR-CALDESC:Évènements pour 
REFRESH-INTERVAL;VALUE=DURATION:PT1H
X-Robots-Tag:noindex
X-PUBLISHED-TTL:PT1H
BEGIN:VTIMEZONE
TZID:Europe/Paris
BEGIN:DAYLIGHT
TZOFFSETFROM:+0100
TZOFFSETTO:+0200
TZNAME:CEST
DTSTART:20250330T010000
END:DAYLIGHT
BEGIN:STANDARD
TZOFFSETFROM:+0200
TZOFFSETTO:+0100
TZNAME:CET
DTSTART:20251026T010000
END:STANDARD
BEGIN:DAYLIGHT
TZOFFSETFROM:+0100
TZOFFSETTO:+0200
TZNAME:CEST
DTSTART:20260329T010000
END:DAYLIGHT
BEGIN:STANDARD
TZOFFSETFROM:+0200
TZOFFSETTO:+0100
TZNAME:CET
DTSTART:20261025T010000
END:STANDARD
BEGIN:DAYLIGHT
TZOFFSETFROM:+0100
TZOFFSETTO:+0200
TZNAME:CEST
DTSTART:20270328T010000
END:DAYLIGHT
BEGIN:STANDARD
TZOFFSETFROM:+0200
TZOFFSETTO:+0100
TZNAME:CET
DTSTART:20271031T010000
END:STANDARD
END:VTIMEZONE
BEGIN:VEVENT
DTSTART;TZID=Europe/Paris:20260420T080000
DTEND;TZID=Europe/Paris:20260424T170000
DTSTAMP:20260423T034950
CREATED:20250627T064027Z
LAST-MODIFIED:20251212T082700Z
UID:5239-1776672000-1777050000@ampara-mediterranee.corsica
SUMMARY:Efficience RH et management
DESCRIPTION:Connaître les dispositions légales incombant au RH\nAppliquer les règles relatives aux différents contrats\, de l’embauche au départ\nGérer la durée du temps de travail et les principales absences\nCollaborer efficacement avec les partenaires internes et externe\n\nx Voir la fiche produit
URL:https://ampara-mediterranee.corsica/evenement/efficience-rh-et-management/
LOCATION:Groupe Amparà Méditerranée Corsica\, 726 Lieu dit strada vecchia\, Borgo\, 20290\, France
CATEGORIES:Formations professionnelles,Planning formations professionnelles 2025
ATTACH;FMTTYPE=image/webp:https://ampara-mediterranee.corsica/wp-content/uploads/2025/02/efficacite-pro-management.webp
ORGANIZER;CN="Groupe Ampar%C3%A0 M%C3%A9diterran%C3%A9e Borgo":MAILTO:m.murati@cci.corsica
END:VEVENT
BEGIN:VEVENT
DTSTART;TZID=Europe/Paris:20260422T080000
DTEND;TZID=Europe/Paris:20260423T170000
DTSTAMP:20260423T034950
CREATED:20250627T091739Z
LAST-MODIFIED:20251212T085003Z
UID:5282-1776844800-1776963600@ampara-mediterranee.corsica
SUMMARY:Maîtriser le rôle et le fonctionnement du CSE
DESCRIPTION:Maitriser les différents rôles et attributions.\nDécouvrir le fonctionnement du CSE.\n\nx Voir la fiche produit
URL:https://ampara-mediterranee.corsica/evenement/maitriser-le-role-et-le-fonctionnement-du-cse/
LOCATION:Groupe Amparà Méditerranée Corsica\, 726 Lieu dit strada vecchia\, Borgo\, 20290\, France
CATEGORIES:Formations professionnelles,Planning formations professionnelles 2025
ORGANIZER;CN="Groupe Ampar%C3%A0 M%C3%A9diterran%C3%A9e Borgo":MAILTO:m.murati@cci.corsica
END:VEVENT
BEGIN:VEVENT
DTSTART;TZID=Europe/Paris:20260422T080000
DTEND;TZID=Europe/Paris:20260423T170000
DTSTAMP:20260423T034950
CREATED:20250717T091544Z
LAST-MODIFIED:20251211T091051Z
UID:5597-1776844800-1776963600@ampara-mediterranee.corsica
SUMMARY:Gestion des situations professionnelles difficiles
DESCRIPTION:Apprendre à adapter son comportement dans un environnement de travail\nGérer efficacement les sources de pression\nGérer les relations inter-personnelles\nOrganiser le travail et gérer ses priorités\n\nx Voir la fiche produit
URL:https://ampara-mediterranee.corsica/evenement/gestion-des-situations-professionnelles-difficiles/
LOCATION:Groupe Amparà Méditerranée Campus Borgo\, 726 Strada vecchia\, BORGO\, 20290\, France
CATEGORIES:Formations professionnelles,Planning formations professionnelles 2025
ATTACH;FMTTYPE=image/jpeg:https://ampara-mediterranee.corsica/wp-content/uploads/2025/06/management.jpg
ORGANIZER;CN="Groupe Ampar%C3%A0 M%C3%A9diterran%C3%A9e Borgo":MAILTO:m.murati@cci.corsica
END:VEVENT
BEGIN:VEVENT
DTSTART;TZID=Europe/Paris:20260422T080000
DTEND;TZID=Europe/Paris:20260521T170000
DTSTAMP:20260423T034950
CREATED:20250205T090506Z
LAST-MODIFIED:20260105T133846Z
UID:3732-1776844800-1779382800@ampara-mediterranee.corsica
SUMMARY:Recyclage risques électriques pour électricien
DESCRIPTION:Respecter les prescriptions de sécurité définies par la norme lors de l’exécution des opérations.\nConnaître la réglementation.\nAméliorer ses pratiques concernant sa sécurité et celle des autres\n\n  \n\nDurée de 1 à 3 jours\n\nx Voir la fiche produit
URL:https://ampara-mediterranee.corsica/evenement/recyclage-risques-electriques-pour-electricien/
LOCATION:Groupe Amparà Méditerranée Corsica\, 726 Lieu dit strada vecchia\, Borgo\, 20290\, France
CATEGORIES:Formations professionnelles,Planning formations professionnelles 2025
ATTACH;FMTTYPE=image/jpeg:https://ampara-mediterranee.corsica/wp-content/uploads/2025/12/risuqes-electriques.jpg
ORGANIZER;CN="Groupe Ampar%C3%A0 M%C3%A9diterran%C3%A9e Borgo":MAILTO:m.murati@cci.corsica
END:VEVENT
BEGIN:VEVENT
DTSTART;TZID=Europe/Paris:20260423T080000
DTEND;TZID=Europe/Paris:20260423T170000
DTSTAMP:20260423T034950
CREATED:20250703T085403Z
LAST-MODIFIED:20251208T143946Z
UID:5480-1776931200-1776963600@ampara-mediterranee.corsica
SUMMARY:Chorus Pro
DESCRIPTION:A l’issue de la formation\, le participant sera capable d’apprendre à utiliser le portail Chorus Pro\n\nx Voir la fiche produit
URL:https://ampara-mediterranee.corsica/evenement/chorus-pro-2/
LOCATION:Groupe Amparà Méditerranée Corsica\, 726 Lieu dit strada vecchia\, Borgo\, 20290\, France
CATEGORIES:Formations professionnelles,Planning formations professionnelles 2025
ATTACH;FMTTYPE=image/jpeg:https://ampara-mediterranee.corsica/wp-content/uploads/2025/07/droit-demarche.jpg
ORGANIZER;CN="Groupe Ampar%C3%A0 M%C3%A9diterran%C3%A9e Borgo":MAILTO:m.murati@cci.corsica
END:VEVENT
BEGIN:VEVENT
DTSTART;TZID=Europe/Paris:20260423T080000
DTEND;TZID=Europe/Paris:20260424T170000
DTSTAMP:20260423T034950
CREATED:20251211T093205Z
LAST-MODIFIED:20251211T093205Z
UID:6444-1776931200-1777050000@ampara-mediterranee.corsica
SUMMARY:Démarche de fixation des objectifs
DESCRIPTION:Faire des objectifs un véritable outil de pilotage et de management.\nMobiliser les collaborateurs pour atteindre leurs objectifs.\nCapitaliser sur le suivi et le bilan des résultats.\n\nx Voir la fiche produit
URL:https://ampara-mediterranee.corsica/evenement/demarche-de-fixation-des-objectifs-2/
LOCATION:Groupe Amparà Méditerranée Campus Borgo\, 726 Strada vecchia\, BORGO\, 20290\, France
CATEGORIES:Formations professionnelles,Planning formations professionnelles 2025
ATTACH;FMTTYPE=image/jpeg:https://ampara-mediterranee.corsica/wp-content/uploads/2025/06/management.jpg
ORGANIZER;CN="Groupe Ampar%C3%A0 M%C3%A9diterran%C3%A9e Borgo":MAILTO:m.murati@cci.corsica
END:VEVENT
END:VCALENDAR