BEGIN:VCALENDAR
VERSION:2.0
PRODID:-// - ECPv6.15.20//NONSGML v1.0//EN
CALSCALE:GREGORIAN
METHOD:PUBLISH
X-ORIGINAL-URL:https://ampara-mediterranee.corsica
X-WR-CALDESC:Évènements pour 
REFRESH-INTERVAL;VALUE=DURATION:PT1H
X-Robots-Tag:noindex
X-PUBLISHED-TTL:PT1H
BEGIN:VTIMEZONE
TZID:Europe/Paris
BEGIN:DAYLIGHT
TZOFFSETFROM:+0100
TZOFFSETTO:+0200
TZNAME:CEST
DTSTART:20250330T010000
END:DAYLIGHT
BEGIN:STANDARD
TZOFFSETFROM:+0200
TZOFFSETTO:+0100
TZNAME:CET
DTSTART:20251026T010000
END:STANDARD
BEGIN:DAYLIGHT
TZOFFSETFROM:+0100
TZOFFSETTO:+0200
TZNAME:CEST
DTSTART:20260329T010000
END:DAYLIGHT
BEGIN:STANDARD
TZOFFSETFROM:+0200
TZOFFSETTO:+0100
TZNAME:CET
DTSTART:20261025T010000
END:STANDARD
BEGIN:DAYLIGHT
TZOFFSETFROM:+0100
TZOFFSETTO:+0200
TZNAME:CEST
DTSTART:20270328T010000
END:DAYLIGHT
BEGIN:STANDARD
TZOFFSETFROM:+0200
TZOFFSETTO:+0100
TZNAME:CET
DTSTART:20271031T010000
END:STANDARD
END:VTIMEZONE
BEGIN:VEVENT
DTSTART;TZID=Europe/Paris:20260413T080000
DTEND;TZID=Europe/Paris:20260421T080000
DTSTAMP:20260420T014606
CREATED:20250703T083918Z
LAST-MODIFIED:20251208T142914Z
UID:5462-1776067200-1776758400@ampara-mediterranee.corsica
SUMMARY:AI for entrepreneurship
DESCRIPTION:Maîtriser les techniques de maximisation des capacités d’apprentissage de méthodes et outils de la création d’entreprise par le déploiement de l’Intelligence artificielle.\nSavoir introduire le couplage du GRP-lab (outil de formalisation du Business model ) avec les IA basées sur les modèles larges de langages (ex. Chat-Gpt).\nConnaître les outils de Deep learning pour prédire les principaux facteurs critiques de la création d’une nouvelle offre de marché. Prédire la scalabilité du projet et sa pertinence (financière et extra-financière) à court-terme.\n\nx Voir la fiche produit
URL:https://ampara-mediterranee.corsica/evenement/ai-for-entrepreneurship/
LOCATION:Groupe Amparà Méditerranée Corsica\, 726 Lieu dit strada vecchia\, Borgo\, 20290\, France
CATEGORIES:Formations professionnelles,Planning formations professionnelles 2025
ATTACH;FMTTYPE=image/webp:https://ampara-mediterranee.corsica/wp-content/uploads/2025/02/calendrier-formation-pro-2025-scaled.webp
ORGANIZER;CN="Groupe Ampar%C3%A0 M%C3%A9diterran%C3%A9e Borgo":MAILTO:m.murati@cci.corsica
END:VEVENT
BEGIN:VEVENT
DTSTART;TZID=Europe/Paris:20260420T080000
DTEND;TZID=Europe/Paris:20260421T170000
DTSTAMP:20260420T014606
CREATED:20250630T083939Z
LAST-MODIFIED:20251211T102425Z
UID:5333-1776672000-1776790800@ampara-mediterranee.corsica
SUMMARY:Concevoir et formaliser sa stratégie d'entreprise
DESCRIPTION:Comprendre la démarche et les composantes de la réflexion stratégique.\nAcquérir les méthodes et outils d’analyse de l’environnement externe et interne.\nSavoir utiliser et interpréter les matrices d’aide à  la décision.\nConçue par des consultants experts de la stratégie d’entreprise\, cette formation vous apporte une méthodologie précise\, une approche pratique adaptée à  votre contexte et à  votre entreprise.\nElle est illustrée par de nombreux exemples et études de cas\n\nx Voir la fiche produit
URL:https://ampara-mediterranee.corsica/evenement/concevoir-et-formaliser-sa-strategie-dentreprise/
LOCATION:Groupe Amparà Méditerranée Campus Borgo\, 726 Strada vecchia\, BORGO\, 20290\, France
ATTACH;FMTTYPE=image/jpeg:https://ampara-mediterranee.corsica/wp-content/uploads/2025/06/management.jpg
ORGANIZER;CN="Groupe Ampar%C3%A0 M%C3%A9diterran%C3%A9e Borgo":MAILTO:m.murati@cci.corsica
END:VEVENT
BEGIN:VEVENT
DTSTART;TZID=Europe/Paris:20260420T080000
DTEND;TZID=Europe/Paris:20260421T170000
DTSTAMP:20260420T014606
CREATED:20251208T141755Z
LAST-MODIFIED:20251208T141927Z
UID:6309-1776672000-1776790800@ampara-mediterranee.corsica
SUMMARY:Community Management
DESCRIPTION:Apprendre à concevoir une stratégie de Communication web sociale média\, à animer une communauté d’internautes\, à la développer et à  piloter l’e-réputation d’une entreprise\n\nx Voir la fiche produit
URL:https://ampara-mediterranee.corsica/evenement/community-management-2/
LOCATION:Groupe Amparà Méditerranée Corsica\, 726 Lieu dit strada vecchia\, Borgo\, 20290\, France
CATEGORIES:Formations professionnelles,Planning formations professionnelles 2025
ATTACH;FMTTYPE=image/jpeg:https://ampara-mediterranee.corsica/wp-content/uploads/2025/07/e-commerce-scaled.jpeg
ORGANIZER;CN="Groupe Ampar%C3%A0 M%C3%A9diterran%C3%A9e Borgo":MAILTO:m.murati@cci.corsica
END:VEVENT
BEGIN:VEVENT
DTSTART;TZID=Europe/Paris:20260420T080000
DTEND;TZID=Europe/Paris:20260424T170000
DTSTAMP:20260420T014606
CREATED:20250627T064027Z
LAST-MODIFIED:20251212T082700Z
UID:5239-1776672000-1777050000@ampara-mediterranee.corsica
SUMMARY:Efficience RH et management
DESCRIPTION:Connaître les dispositions légales incombant au RH\nAppliquer les règles relatives aux différents contrats\, de l’embauche au départ\nGérer la durée du temps de travail et les principales absences\nCollaborer efficacement avec les partenaires internes et externe\n\nx Voir la fiche produit
URL:https://ampara-mediterranee.corsica/evenement/efficience-rh-et-management/
LOCATION:Groupe Amparà Méditerranée Corsica\, 726 Lieu dit strada vecchia\, Borgo\, 20290\, France
CATEGORIES:Formations professionnelles,Planning formations professionnelles 2025
ATTACH;FMTTYPE=image/webp:https://ampara-mediterranee.corsica/wp-content/uploads/2025/02/efficacite-pro-management.webp
ORGANIZER;CN="Groupe Ampar%C3%A0 M%C3%A9diterran%C3%A9e Borgo":MAILTO:m.murati@cci.corsica
END:VEVENT
BEGIN:VEVENT
DTSTART;TZID=Europe/Paris:20260420T083000
DTEND;TZID=Europe/Paris:20260421T170000
DTSTAMP:20260420T014606
CREATED:20250702T073628Z
LAST-MODIFIED:20251208T093518Z
UID:5384-1776673800-1776790800@ampara-mediterranee.corsica
SUMMARY:Excel macro VBA
DESCRIPTION:Construire un algorithme simple et s’appuyer sur des méthodes pour la conception des outils.\nÉtablir la correspondance entre le code et les actions accomplies dans l’interface graphique.\nRespecter les règles concernant la programmation (documentation\, commentaires\, normes…).\nDépanner une macro à l’aide des outils de débogage.\nMettre en œuvre des variables.\nChercher en permanence à optimiser les macros\nPrésenter une macro\nEnregistrer une macro-commande\, mode relatif ou absolu\nUtiliser les outils méthodologiques\, prendre les précautions dans la sélection des feuilles et des cellules.\nUtiliser le clavier pour les déplacements et sélections.\nUtiliser l’onglet Développeur et bouton Visual Basic.\nPrendre de connaissance du code et mettre en correspondance avec les actions accomplies\nRéaliser une macro simple.\nPersonnaliser le ruban\, créer un onglet\, un groupe et affecter une macro à un bouton.\n\nx Voir la fiche produit
URL:https://ampara-mediterranee.corsica/evenement/excel-macro-vba-2/
LOCATION:Groupe Amparà Méditerranée Corsica\, 726 Lieu dit strada vecchia\, Borgo\, 20290\, France
CATEGORIES:Formations professionnelles,Planning formations professionnelles 2025
ATTACH;FMTTYPE=image/webp:https://ampara-mediterranee.corsica/wp-content/uploads/2025/02/informatique_bureautique-1.webp
ORGANIZER;CN="Groupe Ampar%C3%A0 M%C3%A9diterran%C3%A9e Borgo":MAILTO:m.murati@cci.corsica
END:VEVENT
END:VCALENDAR