BEGIN:VCALENDAR
VERSION:2.0
PRODID:-// - ECPv6.15.20//NONSGML v1.0//EN
CALSCALE:GREGORIAN
METHOD:PUBLISH
X-ORIGINAL-URL:https://ampara-mediterranee.corsica
X-WR-CALDESC:Évènements pour 
REFRESH-INTERVAL;VALUE=DURATION:PT1H
X-Robots-Tag:noindex
X-PUBLISHED-TTL:PT1H
BEGIN:VTIMEZONE
TZID:Europe/Paris
BEGIN:DAYLIGHT
TZOFFSETFROM:+0100
TZOFFSETTO:+0200
TZNAME:CEST
DTSTART:20250330T010000
END:DAYLIGHT
BEGIN:STANDARD
TZOFFSETFROM:+0200
TZOFFSETTO:+0100
TZNAME:CET
DTSTART:20251026T010000
END:STANDARD
BEGIN:DAYLIGHT
TZOFFSETFROM:+0100
TZOFFSETTO:+0200
TZNAME:CEST
DTSTART:20260329T010000
END:DAYLIGHT
BEGIN:STANDARD
TZOFFSETFROM:+0200
TZOFFSETTO:+0100
TZNAME:CET
DTSTART:20261025T010000
END:STANDARD
BEGIN:DAYLIGHT
TZOFFSETFROM:+0100
TZOFFSETTO:+0200
TZNAME:CEST
DTSTART:20270328T010000
END:DAYLIGHT
BEGIN:STANDARD
TZOFFSETFROM:+0200
TZOFFSETTO:+0100
TZNAME:CET
DTSTART:20271031T010000
END:STANDARD
END:VTIMEZONE
BEGIN:VEVENT
DTSTART;TZID=Europe/Paris:20260407T083000
DTEND;TZID=Europe/Paris:20260409T170000
DTSTAMP:20260422T115627
CREATED:20250210T130132Z
LAST-MODIFIED:20251208T094104Z
UID:3880-1775550600-1775754000@ampara-mediterranee.corsica
SUMMARY:Word perfectionnement
DESCRIPTION:Élaborer des documents complexes\, hiérarchisés (plan) ou longs.\nPréparer\, organiser mettre en forme et en page un document composite (texte\, cliparts\, formes\, images…)\nGagner du temps par la maîtrise des fonctionnalités avancées (modèles\, styles).\n\nx Voir la fiche produit
URL:https://ampara-mediterranee.corsica/evenement/word-perfectionnement-2/
LOCATION:Groupe Amparà Méditerranée Corsica\, 726 Lieu dit strada vecchia\, Borgo\, 20290\, France
CATEGORIES:Formations professionnelles,Planning formations professionnelles 2025
ATTACH;FMTTYPE=image/webp:https://ampara-mediterranee.corsica/wp-content/uploads/2025/02/informatique_bureautique-1.webp
ORGANIZER;CN="Groupe Ampar%C3%A0 M%C3%A9diterran%C3%A9e Borgo":MAILTO:m.murati@cci.corsica
END:VEVENT
END:VCALENDAR