BEGIN:VCALENDAR
VERSION:2.0
PRODID:-// - ECPv6.15.20//NONSGML v1.0//EN
CALSCALE:GREGORIAN
METHOD:PUBLISH
X-ORIGINAL-URL:https://ampara-mediterranee.corsica
X-WR-CALDESC:Évènements pour 
REFRESH-INTERVAL;VALUE=DURATION:PT1H
X-Robots-Tag:noindex
X-PUBLISHED-TTL:PT1H
BEGIN:VTIMEZONE
TZID:Europe/Paris
BEGIN:DAYLIGHT
TZOFFSETFROM:+0100
TZOFFSETTO:+0200
TZNAME:CEST
DTSTART:20250330T010000
END:DAYLIGHT
BEGIN:STANDARD
TZOFFSETFROM:+0200
TZOFFSETTO:+0100
TZNAME:CET
DTSTART:20251026T010000
END:STANDARD
BEGIN:DAYLIGHT
TZOFFSETFROM:+0100
TZOFFSETTO:+0200
TZNAME:CEST
DTSTART:20260329T010000
END:DAYLIGHT
BEGIN:STANDARD
TZOFFSETFROM:+0200
TZOFFSETTO:+0100
TZNAME:CET
DTSTART:20261025T010000
END:STANDARD
BEGIN:DAYLIGHT
TZOFFSETFROM:+0100
TZOFFSETTO:+0200
TZNAME:CEST
DTSTART:20270328T010000
END:DAYLIGHT
BEGIN:STANDARD
TZOFFSETFROM:+0200
TZOFFSETTO:+0100
TZNAME:CET
DTSTART:20271031T010000
END:STANDARD
END:VTIMEZONE
BEGIN:VEVENT
DTSTART;TZID=Europe/Paris:20260128T083000
DTEND;TZID=Europe/Paris:20260128T120000
DTSTAMP:20260422T072554
CREATED:20250626T124302Z
LAST-MODIFIED:20251212T093819Z
UID:5208-1769589000-1769601600@ampara-mediterranee.corsica
SUMMARY:Utilisation des échelles-escabeaux-PIRL
DESCRIPTION:Utiliser une échelle\, un escabeau\, PIRL\, PIR ou un marche pied en respectant les règles de sécurité\nMaintenir une échelle\, un escabeau\, PIR\, PIRL ou un marchepied en sécurité durant l’utilisation.\nMaîtriser les risques liés à la coactivité et prévenir les situations dangereuses.\n\nx Voir la fiche produit
URL:https://ampara-mediterranee.corsica/evenement/utilisation-des-echelles-escabeaux-pirl/
LOCATION:Groupe Amparà Méditerranée Campus Ajaccio Sposata\, Chemin de la Sposata\, Ajaccio\, France\, 20090\, France
CATEGORIES:Formations professionnelles,Planning formations professionnelles 2025
ATTACH;FMTTYPE=image/webp:https://ampara-mediterranee.corsica/wp-content/uploads/2025/02/securite.webp
ORGANIZER;CN="Groupe Ampar%C3%A0 M%C3%A9diterran%C3%A9e Ajaccio Sposata":MAILTO:jmatekalo@cma.corsica
END:VEVENT
END:VCALENDAR