BEGIN:VCALENDAR
VERSION:2.0
PRODID:-// - ECPv6.15.20//NONSGML v1.0//EN
CALSCALE:GREGORIAN
METHOD:PUBLISH
X-ORIGINAL-URL:https://ampara-mediterranee.corsica
X-WR-CALDESC:Évènements pour 
REFRESH-INTERVAL;VALUE=DURATION:PT1H
X-Robots-Tag:noindex
X-PUBLISHED-TTL:PT1H
BEGIN:VTIMEZONE
TZID:Europe/Paris
BEGIN:DAYLIGHT
TZOFFSETFROM:+0100
TZOFFSETTO:+0200
TZNAME:CEST
DTSTART:20250330T010000
END:DAYLIGHT
BEGIN:STANDARD
TZOFFSETFROM:+0200
TZOFFSETTO:+0100
TZNAME:CET
DTSTART:20251026T010000
END:STANDARD
BEGIN:DAYLIGHT
TZOFFSETFROM:+0100
TZOFFSETTO:+0200
TZNAME:CEST
DTSTART:20260329T010000
END:DAYLIGHT
BEGIN:STANDARD
TZOFFSETFROM:+0200
TZOFFSETTO:+0100
TZNAME:CET
DTSTART:20261025T010000
END:STANDARD
BEGIN:DAYLIGHT
TZOFFSETFROM:+0100
TZOFFSETTO:+0200
TZNAME:CEST
DTSTART:20270328T010000
END:DAYLIGHT
BEGIN:STANDARD
TZOFFSETFROM:+0200
TZOFFSETTO:+0100
TZNAME:CET
DTSTART:20271031T010000
END:STANDARD
END:VTIMEZONE
BEGIN:VEVENT
DTSTART;TZID=Europe/Paris:20260117T080000
DTEND;TZID=Europe/Paris:20260117T170000
DTSTAMP:20260422T133704
CREATED:20260112T092622Z
LAST-MODIFIED:20260112T092658Z
UID:6685-1768636800-1768669200@ampara-mediterranee.corsica
SUMMARY:Salon Studyrama 2026
DESCRIPTION:Salon Studyrama des Lycéens et des Etudes Supérieures d’Ajaccio\nVous hésitez sur le choix de votre formation\, votre école\, ou encore votre futur métier ? Venez échanger avec des écoles\, des prépas\, des lycées et des organismes d’orientation afin de construire au mieux votre projet d’études\, quelque soit votre secteur d’activité privilégié : Art\, Sport\, Management\, Ingénieur\, Numérique\, Commerce\, Marketing\, Luxe\, Santé\, Sciences\, Finance\, Communication\, BTP\, Audiovisuel\, Environnement\, Informatique… \nSur ce salon vous pourrez échanger avec des spécialistes des études supérieures\, des professeurs et des étudiants à votre écoute toute la journée. Ils vous conseilleront au mieux sur vos choix de parcours parmi les plus de 400 formations de Bac à Bac +5 représentées\, votre gestion de Parcoursup\, et votre vie étudiante à Ajaccio.
URL:https://ampara-mediterranee.corsica/evenement/salon-studyrama-2026/
LOCATION:Groupe Amparà Méditerranée Campus Ajaccio Ricanto\, Route du ricanto\, ajaccio\, 20090\, France
CATEGORIES:Journée Portes Ouvertes,Tout public
ATTACH;FMTTYPE=image/jpeg:https://ampara-mediterranee.corsica/wp-content/uploads/2026/01/salon-universite.jpeg
ORGANIZER;CN="Groupe Ampar%C3%A0 M%C3%A9diterran%C3%A9e Borgo":MAILTO:m.murati@cci.corsica
END:VEVENT
END:VCALENDAR