BEGIN:VCALENDAR
VERSION:2.0
PRODID:-// - ECPv6.15.20//NONSGML v1.0//EN
CALSCALE:GREGORIAN
METHOD:PUBLISH
X-ORIGINAL-URL:https://ampara-mediterranee.corsica
X-WR-CALDESC:Évènements pour 
REFRESH-INTERVAL;VALUE=DURATION:PT1H
X-Robots-Tag:noindex
X-PUBLISHED-TTL:PT1H
BEGIN:VTIMEZONE
TZID:Europe/Paris
BEGIN:DAYLIGHT
TZOFFSETFROM:+0100
TZOFFSETTO:+0200
TZNAME:CEST
DTSTART:20250330T010000
END:DAYLIGHT
BEGIN:STANDARD
TZOFFSETFROM:+0200
TZOFFSETTO:+0100
TZNAME:CET
DTSTART:20251026T010000
END:STANDARD
BEGIN:DAYLIGHT
TZOFFSETFROM:+0100
TZOFFSETTO:+0200
TZNAME:CEST
DTSTART:20260329T010000
END:DAYLIGHT
BEGIN:STANDARD
TZOFFSETFROM:+0200
TZOFFSETTO:+0100
TZNAME:CET
DTSTART:20261025T010000
END:STANDARD
BEGIN:DAYLIGHT
TZOFFSETFROM:+0100
TZOFFSETTO:+0200
TZNAME:CEST
DTSTART:20270328T010000
END:DAYLIGHT
BEGIN:STANDARD
TZOFFSETFROM:+0200
TZOFFSETTO:+0100
TZNAME:CET
DTSTART:20271031T010000
END:STANDARD
END:VTIMEZONE
BEGIN:VEVENT
DTSTART;TZID=Europe/Paris:20260604T080000
DTEND;TZID=Europe/Paris:20260605T170000
DTSTAMP:20260421T153639
CREATED:20250702T122328Z
LAST-MODIFIED:20251208T101831Z
UID:5438-1780560000-1780678800@ampara-mediterranee.corsica
SUMMARY:Prospecter et fidéliser
DESCRIPTION:Connaître et utiliser les outils de prospection adaptés pour développer et fidéliser sa clientèle\nMaîtriser les techniques de communication\, de relance et de fidélisation\nDévelopper son réseau de prospects\, acquérir de nouveaux clients et optimiser ses résultats\n\nx Voir la fiche produit
URL:https://ampara-mediterranee.corsica/evenement/prospecter-et-fideliser/
LOCATION:Groupe Amparà Méditerranée Campus Borgo\, 726 Strada vecchia\, BORGO\, 20290\, France
CATEGORIES:Formations professionnelles,Planning formations professionnelles 2025
ATTACH;FMTTYPE=image/jpeg:https://ampara-mediterranee.corsica/wp-content/uploads/2025/07/accueil-vente.jpg
ORGANIZER;CN="Groupe Ampar%C3%A0 M%C3%A9diterran%C3%A9e Borgo":MAILTO:m.murati@cci.corsica
END:VEVENT
END:VCALENDAR