BEGIN:VCALENDAR
VERSION:2.0
PRODID:-// - ECPv6.15.20//NONSGML v1.0//EN
CALSCALE:GREGORIAN
METHOD:PUBLISH
X-ORIGINAL-URL:https://ampara-mediterranee.corsica
X-WR-CALDESC:Évènements pour 
REFRESH-INTERVAL;VALUE=DURATION:PT1H
X-Robots-Tag:noindex
X-PUBLISHED-TTL:PT1H
BEGIN:VTIMEZONE
TZID:Europe/Paris
BEGIN:DAYLIGHT
TZOFFSETFROM:+0100
TZOFFSETTO:+0200
TZNAME:CEST
DTSTART:20250330T010000
END:DAYLIGHT
BEGIN:STANDARD
TZOFFSETFROM:+0200
TZOFFSETTO:+0100
TZNAME:CET
DTSTART:20251026T010000
END:STANDARD
BEGIN:DAYLIGHT
TZOFFSETFROM:+0100
TZOFFSETTO:+0200
TZNAME:CEST
DTSTART:20260329T010000
END:DAYLIGHT
BEGIN:STANDARD
TZOFFSETFROM:+0200
TZOFFSETTO:+0100
TZNAME:CET
DTSTART:20261025T010000
END:STANDARD
BEGIN:DAYLIGHT
TZOFFSETFROM:+0100
TZOFFSETTO:+0200
TZNAME:CEST
DTSTART:20270328T010000
END:DAYLIGHT
BEGIN:STANDARD
TZOFFSETFROM:+0200
TZOFFSETTO:+0100
TZNAME:CET
DTSTART:20271031T010000
END:STANDARD
END:VTIMEZONE
BEGIN:VEVENT
DTSTART;TZID=Europe/Paris:20260505T080000
DTEND;TZID=Europe/Paris:20260506T170000
DTSTAMP:20260422T054325
CREATED:20250703T093450Z
LAST-MODIFIED:20251208T145718Z
UID:5493-1777968000-1778086800@ampara-mediterranee.corsica
SUMMARY:Gestion financière des marchés publics
DESCRIPTION:Savoir appliquer les formes et variations de prix\nConnaitre toutes les modalités de paiements existantes\nMaitriser la gestion financière des sous-traitants et des cotraitants.\nGérer les sûretés financières\, les cessions et nantissements de créances\n\nx Voir la fiche produit
URL:https://ampara-mediterranee.corsica/evenement/gestion-financiere-des-marches-publics/
LOCATION:Groupe Amparà Méditerranée Campus Borgo\, 726 Strada vecchia\, BORGO\, 20290\, France
CATEGORIES:Formations professionnelles,Planning formations professionnelles 2025
ATTACH;FMTTYPE=image/jpeg:https://ampara-mediterranee.corsica/wp-content/uploads/2025/06/management.jpg
ORGANIZER;CN="Groupe Ampar%C3%A0 M%C3%A9diterran%C3%A9e Borgo":MAILTO:m.murati@cci.corsica
END:VEVENT
END:VCALENDAR