BEGIN:VCALENDAR
VERSION:2.0
PRODID:-// - ECPv6.15.20//NONSGML v1.0//EN
CALSCALE:GREGORIAN
METHOD:PUBLISH
X-ORIGINAL-URL:https://ampara-mediterranee.corsica
X-WR-CALDESC:Évènements pour 
REFRESH-INTERVAL;VALUE=DURATION:PT1H
X-Robots-Tag:noindex
X-PUBLISHED-TTL:PT1H
BEGIN:VTIMEZONE
TZID:Europe/Paris
BEGIN:DAYLIGHT
TZOFFSETFROM:+0100
TZOFFSETTO:+0200
TZNAME:CEST
DTSTART:20250330T010000
END:DAYLIGHT
BEGIN:STANDARD
TZOFFSETFROM:+0200
TZOFFSETTO:+0100
TZNAME:CET
DTSTART:20251026T010000
END:STANDARD
BEGIN:DAYLIGHT
TZOFFSETFROM:+0100
TZOFFSETTO:+0200
TZNAME:CEST
DTSTART:20260329T010000
END:DAYLIGHT
BEGIN:STANDARD
TZOFFSETFROM:+0200
TZOFFSETTO:+0100
TZNAME:CET
DTSTART:20261025T010000
END:STANDARD
BEGIN:DAYLIGHT
TZOFFSETFROM:+0100
TZOFFSETTO:+0200
TZNAME:CEST
DTSTART:20270328T010000
END:DAYLIGHT
BEGIN:STANDARD
TZOFFSETFROM:+0200
TZOFFSETTO:+0100
TZNAME:CET
DTSTART:20271031T010000
END:STANDARD
END:VTIMEZONE
BEGIN:VEVENT
DTSTART;TZID=Europe/Paris:20260413T083000
DTEND;TZID=Europe/Paris:20260415T170000
DTSTAMP:20260422T012928
CREATED:20250702T073205Z
LAST-MODIFIED:20251208T091009Z
UID:5377-1776069000-1776272400@ampara-mediterranee.corsica
SUMMARY:Essentiel de l'ordinateur
DESCRIPTION:Comprendre les notions essentielles liées aux TIC\, aux ordinateurs\, aux périphériques et aux logiciels.\nDémarrer et arrêter un ordinateur.\nTravailler efficacement avec un ordinateur en utilisant les icônes et les fenêtres\,\nModifier les principaux réglages du système d’exploitation et utiliser les fonctions d’aide intégrée.\nCréer un document simple et l’imprimer\,\nConnaître les principes d’une bonne gestion des documents et être capable d’organiser clairement les fichiers et les dossiers\,\nComprendre l’importance de bien gérer le stockage des données et utiliser efficacement les logiciels permettant de compresser/extraire des fichiers de grande taille\,\nComprendre les concepts de base d’un réseau et savoir de quelle manière on peut se connecter à un réseau\,\nComprendre l’importance de protéger les données et le matériel d’une attaque de virus et prendre conscience de l’utilité de bien gérer les sauvegardes\,\nConnaître les bonnes pratiques en matière de respect de l’environnement\, d’accès à l’informatique pour les utilisateurs présentant un handicap et d’ergonomie.\n\nx Voir la fiche produit
URL:https://ampara-mediterranee.corsica/evenement/essentiel-de-lordinateur/
LOCATION:Groupe Amparà Méditerranée Corsica\, 726 Lieu dit strada vecchia\, Borgo\, 20290\, France
CATEGORIES:Formations professionnelles,Planning formations professionnelles 2025
ATTACH;FMTTYPE=image/webp:https://ampara-mediterranee.corsica/wp-content/uploads/2025/02/informatique_bureautique-1.webp
ORGANIZER;CN="Groupe Ampar%C3%A0 M%C3%A9diterran%C3%A9e Borgo":MAILTO:m.murati@cci.corsica
END:VEVENT
END:VCALENDAR