BEGIN:VCALENDAR
VERSION:2.0
PRODID:-// - ECPv6.15.20//NONSGML v1.0//EN
CALSCALE:GREGORIAN
METHOD:PUBLISH
X-ORIGINAL-URL:https://ampara-mediterranee.corsica
X-WR-CALDESC:Évènements pour 
REFRESH-INTERVAL;VALUE=DURATION:PT1H
X-Robots-Tag:noindex
X-PUBLISHED-TTL:PT1H
BEGIN:VTIMEZONE
TZID:Europe/Paris
BEGIN:DAYLIGHT
TZOFFSETFROM:+0100
TZOFFSETTO:+0200
TZNAME:CEST
DTSTART:20250330T010000
END:DAYLIGHT
BEGIN:STANDARD
TZOFFSETFROM:+0200
TZOFFSETTO:+0100
TZNAME:CET
DTSTART:20251026T010000
END:STANDARD
BEGIN:DAYLIGHT
TZOFFSETFROM:+0100
TZOFFSETTO:+0200
TZNAME:CEST
DTSTART:20260329T010000
END:DAYLIGHT
BEGIN:STANDARD
TZOFFSETFROM:+0200
TZOFFSETTO:+0100
TZNAME:CET
DTSTART:20261025T010000
END:STANDARD
BEGIN:DAYLIGHT
TZOFFSETFROM:+0100
TZOFFSETTO:+0200
TZNAME:CEST
DTSTART:20270328T010000
END:DAYLIGHT
BEGIN:STANDARD
TZOFFSETFROM:+0200
TZOFFSETTO:+0100
TZNAME:CET
DTSTART:20271031T010000
END:STANDARD
END:VTIMEZONE
BEGIN:VEVENT
DTSTART;TZID=Europe/Paris:20260217T080000
DTEND;TZID=Europe/Paris:20260219T170000
DTSTAMP:20260422T035227
CREATED:20250626T131353Z
LAST-MODIFIED:20251205T085025Z
UID:5225-1771315200-1771520400@ampara-mediterranee.corsica
SUMMARY:Caces® R486 Plate-forme élévatrice Cat B expérimenté et recyclage
DESCRIPTION:Maîtriser les connaissances théoriques et pratiques requises pour l’utilisation en sécurité des Plates-formes élévatrices mobiles de personnes dans un cadre professionnel.\nÊtre capable de conduire en sécurité des Plates-formes élévatrices mobiles de personnes conformément à la recommandation R.486A de la CNAMTS.\n\nx Voir fiche produit
URL:https://ampara-mediterranee.corsica/evenement/caces-r486-plate-forme-elevatrice-cat-b-experimente-et-recyclage-3/
LOCATION:Groupe Amparà Méditerranée Corsica\, 726 Lieu dit strada vecchia\, Borgo\, 20290\, France
CATEGORIES:Planning formations professionnelles 2025
ATTACH;FMTTYPE=image/jpeg:https://ampara-mediterranee.corsica/wp-content/uploads/2025/02/plate_forme_elevatrice.jpg
ORGANIZER;CN="Groupe Ampar%C3%A0 M%C3%A9diterran%C3%A9e Borgo":MAILTO:m.murati@cci.corsica
END:VEVENT
END:VCALENDAR