BEGIN:VCALENDAR
VERSION:2.0
PRODID:-// - ECPv6.15.20//NONSGML v1.0//EN
CALSCALE:GREGORIAN
METHOD:PUBLISH
X-ORIGINAL-URL:https://ampara-mediterranee.corsica
X-WR-CALDESC:Évènements pour 
REFRESH-INTERVAL;VALUE=DURATION:PT1H
X-Robots-Tag:noindex
X-PUBLISHED-TTL:PT1H
BEGIN:VTIMEZONE
TZID:Europe/Paris
BEGIN:DAYLIGHT
TZOFFSETFROM:+0100
TZOFFSETTO:+0200
TZNAME:CEST
DTSTART:20250330T010000
END:DAYLIGHT
BEGIN:STANDARD
TZOFFSETFROM:+0200
TZOFFSETTO:+0100
TZNAME:CET
DTSTART:20251026T010000
END:STANDARD
BEGIN:DAYLIGHT
TZOFFSETFROM:+0100
TZOFFSETTO:+0200
TZNAME:CEST
DTSTART:20260329T010000
END:DAYLIGHT
BEGIN:STANDARD
TZOFFSETFROM:+0200
TZOFFSETTO:+0100
TZNAME:CET
DTSTART:20261025T010000
END:STANDARD
BEGIN:DAYLIGHT
TZOFFSETFROM:+0100
TZOFFSETTO:+0200
TZNAME:CEST
DTSTART:20270328T010000
END:DAYLIGHT
BEGIN:STANDARD
TZOFFSETFROM:+0200
TZOFFSETTO:+0100
TZNAME:CET
DTSTART:20271031T010000
END:STANDARD
END:VTIMEZONE
BEGIN:VEVENT
DTSTART;TZID=Europe/Paris:20260407T083000
DTEND;TZID=Europe/Paris:20260410T170000
DTSTAMP:20260422T074812
CREATED:20250702T071542Z
LAST-MODIFIED:20251208T090704Z
UID:5369-1775550600-1775840400@ampara-mediterranee.corsica
SUMMARY:Access perfectionnement
DESCRIPTION:Comprendre les concepts clés du développement et de l’utilisation des bases de données.\nCréer une base de données relationnelle en utilisant des fonctions avancées de création de tables et des relations complexes entre les tables.\nConcevoir et utiliser des requêtes pour créer une table\, mettre à jour\, supprimer et ajouter des données.\nAffinez les requêtes à l’aide de caractères génériques\, de paramètres et de calculs.\nUtiliser des contrôles et des sous-formulaires pour améliorer les formulaires et les fonctionnalités\nCréer des contrôles de rapport pour effectuer les calculs.\nCréez des sous-rapports et améliorez la présentation de l’état.\nAméliorez la productivité en travaillant avec des macros et utilisez des fonctions de liaison et d’importation pour intégrer les données\n\nx Voir la fiche produit
URL:https://ampara-mediterranee.corsica/evenement/access-perfectionnement/
LOCATION:Groupe Amparà Méditerranée Corsica\, 726 Lieu dit strada vecchia\, Borgo\, 20290\, France
CATEGORIES:Formations professionnelles,Planning formations professionnelles 2025
ATTACH;FMTTYPE=image/webp:https://ampara-mediterranee.corsica/wp-content/uploads/2025/02/informatique_bureautique-1.webp
ORGANIZER;CN="Groupe Ampar%C3%A0 M%C3%A9diterran%C3%A9e Borgo":MAILTO:m.murati@cci.corsica
END:VEVENT
END:VCALENDAR